BEGIN:VCALENDAR
VERSION:2.0
PRODID:-//St. Cecilia School - Norfolk - ECPv6.15.7//NONSGML v1.0//EN
CALSCALE:GREGORIAN
METHOD:PUBLISH
X-WR-CALNAME:St. Cecilia School - Norfolk
X-ORIGINAL-URL:https://ncec1.bhncdsb.ca
X-WR-CALDESC:Events for St. Cecilia School - Norfolk
REFRESH-INTERVAL;VALUE=DURATION:PT1H
X-Robots-Tag:noindex
X-PUBLISHED-TTL:PT1H
BEGIN:VTIMEZONE
TZID:America/Toronto
BEGIN:DAYLIGHT
TZOFFSETFROM:-0500
TZOFFSETTO:-0400
TZNAME:EDT
DTSTART:20230312T070000
END:DAYLIGHT
BEGIN:STANDARD
TZOFFSETFROM:-0400
TZOFFSETTO:-0500
TZNAME:EST
DTSTART:20231105T060000
END:STANDARD
BEGIN:DAYLIGHT
TZOFFSETFROM:-0500
TZOFFSETTO:-0400
TZNAME:EDT
DTSTART:20240310T070000
END:DAYLIGHT
BEGIN:STANDARD
TZOFFSETFROM:-0400
TZOFFSETTO:-0500
TZNAME:EST
DTSTART:20241103T060000
END:STANDARD
BEGIN:DAYLIGHT
TZOFFSETFROM:-0500
TZOFFSETTO:-0400
TZNAME:EDT
DTSTART:20250309T070000
END:DAYLIGHT
BEGIN:STANDARD
TZOFFSETFROM:-0400
TZOFFSETTO:-0500
TZNAME:EST
DTSTART:20251102T060000
END:STANDARD
BEGIN:DAYLIGHT
TZOFFSETFROM:-0500
TZOFFSETTO:-0400
TZNAME:EDT
DTSTART:20260308T070000
END:DAYLIGHT
BEGIN:STANDARD
TZOFFSETFROM:-0400
TZOFFSETTO:-0500
TZNAME:EST
DTSTART:20261101T060000
END:STANDARD
END:VTIMEZONE
BEGIN:VEVENT
DTSTART;TZID=America/Toronto:20250526T080000
DTEND;TZID=America/Toronto:20250526T170000
DTSTAMP:20260419T180833
CREATED:20250328T145822Z
LAST-MODIFIED:20250328T145822Z
UID:497-1748246400-1748278800@ncec1.bhncdsb.ca
SUMMARY:Gr 2/3 Backus Mill Trip - Outdoor Education
DESCRIPTION:
URL:https://ncec1.bhncdsb.ca/event/gr-2-3-backus-mill-trip-outdoor-education/
END:VEVENT
BEGIN:VEVENT
DTSTART;VALUE=DATE:20250526
DTEND;VALUE=DATE:20250527
DTSTAMP:20260419T180833
CREATED:20250512T165235Z
LAST-MODIFIED:20250512T165313Z
UID:650-1748217600-1748303999@ncec1.bhncdsb.ca
SUMMARY:Kindergarten Year End Trip
DESCRIPTION:
URL:https://ncec1.bhncdsb.ca/event/kindergarten-year-end-trip/
END:VEVENT
BEGIN:VEVENT
DTSTART;TZID=America/Toronto:20250522T111000
DTEND;TZID=America/Toronto:20250522T123000
DTSTAMP:20260419T180833
CREATED:20250422T181402Z
LAST-MODIFIED:20250422T181503Z
UID:629-1747912200-1747917000@ncec1.bhncdsb.ca
SUMMARY:Upcoming presentation – Soft Shoe Dancers K-2/3
DESCRIPTION:Upcoming presentation – Soft Shoe Dancers is a dance group from Emily C. General school on the Six Nations reserve. Their presentation includes a lesson about traditional dances and regalia. They will be performing some dances and have the students participate in dances as well. Grades K-2/3 will be taking part in this presentation. \nThis presentation supports our Indigenous curriculum as well as complimenting our music and dance curriculum expectations.
URL:https://ncec1.bhncdsb.ca/event/upcoming-presentation-soft-shoe-dancers-k-2-3/
END:VEVENT
BEGIN:VEVENT
DTSTART;TZID=America/Toronto:20250522T084500
DTEND;TZID=America/Toronto:20250522T124500
DTSTAMP:20260419T180833
CREATED:20250422T182926Z
LAST-MODIFIED:20250422T182926Z
UID:634-1747903500-1747917900@ncec1.bhncdsb.ca
SUMMARY:Upcoming Presentation - Onkwehonwe Games Gr 3/4 to 8
DESCRIPTION:Onkwehonwe Games – Dallas Squire\, a former professional lacrosse player from 6 Nations will be running a program that focuses on traditional games (e.g.\, – lacrosse\, peach pit\, double ball\, etc.). His programs include learning about and playing the games and/or using kits to put together small games. \nGrades 3/4 to 8 will take part in this presentation.\n8:45 am – 10:25 am and 11:05 am – 12:45 pm \nThis program supports our physical education curriculum as well as complimenting our learning skills (problem solving\, collaboration and initiative).
URL:https://ncec1.bhncdsb.ca/event/upcoming-presentation-onkwehonwe-games-gr-3-4-to-8/
END:VEVENT
BEGIN:VEVENT
DTSTART;VALUE=DATE:20250522
DTEND;VALUE=DATE:20250523
DTSTAMP:20260419T180833
CREATED:20250512T165051Z
LAST-MODIFIED:20250512T165051Z
UID:648-1747872000-1747958399@ncec1.bhncdsb.ca
SUMMARY:Gr 7/8 Epic Jobs Trip
DESCRIPTION:
URL:https://ncec1.bhncdsb.ca/event/gr-7-8-epic-jobs-trip/
END:VEVENT
BEGIN:VEVENT
DTSTART;VALUE=DATE:20250521
DTEND;VALUE=DATE:20250522
DTSTAMP:20260419T180833
CREATED:20250512T164857Z
LAST-MODIFIED:20250512T164943Z
UID:646-1747785600-1747871999@ncec1.bhncdsb.ca
SUMMARY:Gr 2 Backus Trip
DESCRIPTION:
URL:https://ncec1.bhncdsb.ca/event/gr-2-backus-trip/
END:VEVENT
BEGIN:VEVENT
DTSTART;TZID=America/Toronto:20250520T110500
DTEND;TZID=America/Toronto:20250520T123000
DTSTAMP:20260419T180833
CREATED:20250422T182017Z
LAST-MODIFIED:20250422T182017Z
UID:632-1747739100-1747744200@ncec1.bhncdsb.ca
SUMMARY:Upcoming Presentation - Norfolk Association for Community Living Gr 5/6
DESCRIPTION:Norfolk Association for Community Living (Mrs. Lampman\, Senior Administrative Assistant) \nGrade 5/6 – discussing how individuals with exceptionalities are supported in our community with a goal towards independent living.\nThis presentation supports our Catholic values and promotes inclusivity and understanding.
URL:https://ncec1.bhncdsb.ca/event/upcoming-presentation-norfolk-association-for-community-living-gr-5-6/
END:VEVENT
BEGIN:VEVENT
DTSTART;VALUE=DATE:20250519
DTEND;VALUE=DATE:20250520
DTSTAMP:20260419T180833
CREATED:20241101T175404Z
LAST-MODIFIED:20241101T175404Z
UID:329-1747612800-1747699199@ncec1.bhncdsb.ca
SUMMARY:Victoria Day
DESCRIPTION:
URL:https://ncec1.bhncdsb.ca/event/victoria-day/
END:VEVENT
BEGIN:VEVENT
DTSTART;TZID=America/Toronto:20250514T090000
DTEND;TZID=America/Toronto:20250514T100000
DTSTAMP:20260419T180833
CREATED:20250407T140616Z
LAST-MODIFIED:20250407T140653Z
UID:600-1747213200-1747216800@ncec1.bhncdsb.ca
SUMMARY:School Mass
DESCRIPTION:
URL:https://ncec1.bhncdsb.ca/event/mass/
END:VEVENT
BEGIN:VEVENT
DTSTART;TZID=America/Toronto:20250429T093000
DTEND;TZID=America/Toronto:20250429T100000
DTSTAMP:20260419T180833
CREATED:20250423T183832Z
LAST-MODIFIED:20250423T183832Z
UID:638-1745919000-1745920800@ncec1.bhncdsb.ca
SUMMARY:Gr 7 Vaccine
DESCRIPTION:Gr 7 Vaccine 9:30 am in the Gym
URL:https://ncec1.bhncdsb.ca/event/gr-7-vaccine/
END:VEVENT
BEGIN:VEVENT
DTSTART;TZID=America/Toronto:20250423T090000
DTEND;TZID=America/Toronto:20250423T100000
DTSTAMP:20260419T180833
CREATED:20250328T142442Z
LAST-MODIFIED:20250328T142442Z
UID:489-1745398800-1745402400@ncec1.bhncdsb.ca
SUMMARY:School Mass
DESCRIPTION:
URL:https://ncec1.bhncdsb.ca/event/school-mass/
END:VEVENT
BEGIN:VEVENT
DTSTART;VALUE=DATE:20250421
DTEND;VALUE=DATE:20250422
DTSTAMP:20260419T180833
CREATED:20241101T175221Z
LAST-MODIFIED:20250328T142255Z
UID:327-1745193600-1745279999@ncec1.bhncdsb.ca
SUMMARY:Easter Monday
DESCRIPTION:Statutory Holiday
URL:https://ncec1.bhncdsb.ca/event/easter-monday/
END:VEVENT
BEGIN:VEVENT
DTSTART;VALUE=DATE:20250418
DTEND;VALUE=DATE:20250419
DTSTAMP:20260419T180833
CREATED:20241101T174921Z
LAST-MODIFIED:20250328T142059Z
UID:325-1744934400-1745020799@ncec1.bhncdsb.ca
SUMMARY:Good Friday
DESCRIPTION:Statutory Holiday
URL:https://ncec1.bhncdsb.ca/event/good-friday/
END:VEVENT
BEGIN:VEVENT
DTSTART;VALUE=DATE:20250417
DTEND;VALUE=DATE:20250418
DTSTAMP:20260419T180833
CREATED:20250328T141857Z
LAST-MODIFIED:20250328T141857Z
UID:484-1744848000-1744934399@ncec1.bhncdsb.ca
SUMMARY:Grad Picture Day
DESCRIPTION:
URL:https://ncec1.bhncdsb.ca/event/grad-picture-day/
END:VEVENT
BEGIN:VEVENT
DTSTART;VALUE=DATE:20250414
DTEND;VALUE=DATE:20250415
DTSTAMP:20260419T180833
CREATED:20250328T143343Z
LAST-MODIFIED:20250328T143343Z
UID:495-1744588800-1744675199@ncec1.bhncdsb.ca
SUMMARY:Gr 5/6 & 7/8 Backus Mills Trip - Outdoor Education
DESCRIPTION:
URL:https://ncec1.bhncdsb.ca/event/gr-5-6-7-8-backus-mills-trip-outdoor-education/
END:VEVENT
BEGIN:VEVENT
DTSTART;VALUE=DATE:20250411
DTEND;VALUE=DATE:20250412
DTSTAMP:20260419T180833
CREATED:20241101T174829Z
LAST-MODIFIED:20241101T174829Z
UID:323-1744329600-1744415999@ncec1.bhncdsb.ca
SUMMARY:PA Day
DESCRIPTION:
URL:https://ncec1.bhncdsb.ca/event/pa-day-3/
END:VEVENT
BEGIN:VEVENT
DTSTART;TZID=America/Toronto:20250409T093000
DTEND;TZID=America/Toronto:20250409T113000
DTSTAMP:20260419T180833
CREATED:20250328T143155Z
LAST-MODIFIED:20250328T143155Z
UID:493-1744191000-1744198200@ncec1.bhncdsb.ca
SUMMARY:Gr 7/8 Lynnwood Art Centre Trip
DESCRIPTION:
URL:https://ncec1.bhncdsb.ca/event/gr-7-8-lynnwood-art-centre-trip/
END:VEVENT
BEGIN:VEVENT
DTSTART;VALUE=DATE:20250407
DTEND;VALUE=DATE:20250408
DTSTAMP:20260419T180833
CREATED:20250328T141625Z
LAST-MODIFIED:20250328T141625Z
UID:482-1743984000-1744070399@ncec1.bhncdsb.ca
SUMMARY:Volleyball Tournament
DESCRIPTION:
URL:https://ncec1.bhncdsb.ca/event/volleyball-tournament/
END:VEVENT
BEGIN:VEVENT
DTSTART;TZID=America/Toronto:20250404T112000
DTEND;TZID=America/Toronto:20250404T130500
DTSTAMP:20260419T180833
CREATED:20250328T142922Z
LAST-MODIFIED:20250328T142922Z
UID:491-1743765600-1743771900@ncec1.bhncdsb.ca
SUMMARY:Gr 3/4 Lynnwood Arts Centre Trip
DESCRIPTION:
URL:https://ncec1.bhncdsb.ca/event/gr-3-4-lynnwood-arts-centre-trip/
END:VEVENT
BEGIN:VEVENT
DTSTART;VALUE=DATE:20250402
DTEND;VALUE=DATE:20250403
DTSTAMP:20260419T180833
CREATED:20250328T185031Z
LAST-MODIFIED:20250328T185031Z
UID:513-1743552000-1743638399@ncec1.bhncdsb.ca
SUMMARY:World Autism Day
DESCRIPTION:
URL:https://ncec1.bhncdsb.ca/event/world-autism-day/
END:VEVENT
BEGIN:VEVENT
DTSTART;VALUE=DATE:20250331
DTEND;VALUE=DATE:20250401
DTSTAMP:20260419T180833
CREATED:20250328T185122Z
LAST-MODIFIED:20250328T185122Z
UID:515-1743379200-1743465599@ncec1.bhncdsb.ca
SUMMARY:Indigenous Languages Day
DESCRIPTION:
URL:https://ncec1.bhncdsb.ca/event/indigenous-languages-day/
END:VEVENT
BEGIN:VEVENT
DTSTART;TZID=America/Toronto:20250310T080000
DTEND;TZID=America/Toronto:20250314T170000
DTSTAMP:20260419T180833
CREATED:20241101T174434Z
LAST-MODIFIED:20241101T174434Z
UID:321-1741593600-1741971600@ncec1.bhncdsb.ca
SUMMARY:March Break
DESCRIPTION:
URL:https://ncec1.bhncdsb.ca/event/march-break/
END:VEVENT
BEGIN:VEVENT
DTSTART;VALUE=DATE:20250304
DTEND;VALUE=DATE:20250305
DTSTAMP:20260419T180833
CREATED:20241101T180710Z
LAST-MODIFIED:20241101T180710Z
UID:338-1741046400-1741132799@ncec1.bhncdsb.ca
SUMMARY:Shrove Tuesday (Pancake Day)
DESCRIPTION:
URL:https://ncec1.bhncdsb.ca/event/shrove-tuesday-pancake-day/
END:VEVENT
BEGIN:VEVENT
DTSTART;VALUE=DATE:20250217
DTEND;VALUE=DATE:20250218
DTSTAMP:20260419T180833
CREATED:20241101T174332Z
LAST-MODIFIED:20241101T174332Z
UID:319-1739750400-1739836799@ncec1.bhncdsb.ca
SUMMARY:Family Day
DESCRIPTION:
URL:https://ncec1.bhncdsb.ca/event/family-day/
END:VEVENT
BEGIN:VEVENT
DTSTART;VALUE=DATE:20250120
DTEND;VALUE=DATE:20250121
DTSTAMP:20260419T180833
CREATED:20241101T174223Z
LAST-MODIFIED:20241101T174223Z
UID:317-1737331200-1737417599@ncec1.bhncdsb.ca
SUMMARY:PA Day
DESCRIPTION:
URL:https://ncec1.bhncdsb.ca/event/pa-day-2/
END:VEVENT
BEGIN:VEVENT
DTSTART;VALUE=DATE:20250106
DTEND;VALUE=DATE:20250107
DTSTAMP:20260419T180833
CREATED:20241101T171121Z
LAST-MODIFIED:20241101T171121Z
UID:314-1736121600-1736207999@ncec1.bhncdsb.ca
SUMMARY:School Resumes Today
DESCRIPTION:
URL:https://ncec1.bhncdsb.ca/event/school-resumes-today/
END:VEVENT
BEGIN:VEVENT
DTSTART;VALUE=DATE:20241220
DTEND;VALUE=DATE:20241221
DTSTAMP:20260419T180833
CREATED:20241101T170930Z
LAST-MODIFIED:20241101T170930Z
UID:312-1734652800-1734739199@ncec1.bhncdsb.ca
SUMMARY:Last School Day before Christmas Break
DESCRIPTION:
URL:https://ncec1.bhncdsb.ca/event/last-school-day-before-christmas-break/
END:VEVENT
BEGIN:VEVENT
DTSTART;TZID=America/Toronto:20241218T120000
DTEND;TZID=America/Toronto:20241218T140000
DTSTAMP:20260419T180833
CREATED:20241101T170802Z
LAST-MODIFIED:20241101T170802Z
UID:310-1734523200-1734530400@ncec1.bhncdsb.ca
SUMMARY:Christmas Turkey Lunch
DESCRIPTION:
URL:https://ncec1.bhncdsb.ca/event/christmas-turkey-lunch/
END:VEVENT
BEGIN:VEVENT
DTSTART;VALUE=DATE:20241115
DTEND;VALUE=DATE:20241116
DTSTAMP:20260419T180833
CREATED:20241101T164711Z
LAST-MODIFIED:20241101T165614Z
UID:303-1731628800-1731715199@ncec1.bhncdsb.ca
SUMMARY:PA Day (Parent / Teacher Interviews 8:45 to 11:00 am)
DESCRIPTION:
URL:https://ncec1.bhncdsb.ca/event/pa-day/
END:VEVENT
BEGIN:VEVENT
DTSTART;TZID=America/Toronto:20241114T153000
DTEND;TZID=America/Toronto:20241114T183000
DTSTAMP:20260419T180833
CREATED:20241101T165409Z
LAST-MODIFIED:20241101T165409Z
UID:307-1731598200-1731609000@ncec1.bhncdsb.ca
SUMMARY:Parent / Teacher Interviews
DESCRIPTION:
URL:https://ncec1.bhncdsb.ca/event/parent-teacher-interviews/
END:VEVENT
END:VCALENDAR