BEGIN:VCALENDAR
VERSION:2.0
PRODID:-//St. Cecilia School - Norfolk - ECPv6.15.7//NONSGML v1.0//EN
CALSCALE:GREGORIAN
METHOD:PUBLISH
X-WR-CALNAME:St. Cecilia School - Norfolk
X-ORIGINAL-URL:https://ncec1.bhncdsb.ca
X-WR-CALDESC:Events for St. Cecilia School - Norfolk
REFRESH-INTERVAL;VALUE=DURATION:PT1H
X-Robots-Tag:noindex
X-PUBLISHED-TTL:PT1H
BEGIN:VTIMEZONE
TZID:America/Toronto
BEGIN:DAYLIGHT
TZOFFSETFROM:-0500
TZOFFSETTO:-0400
TZNAME:EDT
DTSTART:20240310T070000
END:DAYLIGHT
BEGIN:STANDARD
TZOFFSETFROM:-0400
TZOFFSETTO:-0500
TZNAME:EST
DTSTART:20241103T060000
END:STANDARD
BEGIN:DAYLIGHT
TZOFFSETFROM:-0500
TZOFFSETTO:-0400
TZNAME:EDT
DTSTART:20250309T070000
END:DAYLIGHT
BEGIN:STANDARD
TZOFFSETFROM:-0400
TZOFFSETTO:-0500
TZNAME:EST
DTSTART:20251102T060000
END:STANDARD
BEGIN:DAYLIGHT
TZOFFSETFROM:-0500
TZOFFSETTO:-0400
TZNAME:EDT
DTSTART:20260308T070000
END:DAYLIGHT
BEGIN:STANDARD
TZOFFSETFROM:-0400
TZOFFSETTO:-0500
TZNAME:EST
DTSTART:20261101T060000
END:STANDARD
END:VTIMEZONE
BEGIN:VEVENT
DTSTART;VALUE=DATE:20251028
DTEND;VALUE=DATE:20251029
DTSTAMP:20260419T191504
CREATED:20250930T191633Z
LAST-MODIFIED:20250930T191633Z
UID:785-1761609600-1761695999@ncec1.bhncdsb.ca
SUMMARY:Nugget/Wedge Meal
DESCRIPTION:
URL:https://ncec1.bhncdsb.ca/event/nugget-wedge-meal-3/
END:VEVENT
BEGIN:VEVENT
DTSTART;VALUE=DATE:20251023
DTEND;VALUE=DATE:20251024
DTSTAMP:20260419T191504
CREATED:20250930T185859Z
LAST-MODIFIED:20250930T185942Z
UID:761-1761177600-1761263999@ncec1.bhncdsb.ca
SUMMARY:Pizza Day
DESCRIPTION:
URL:https://ncec1.bhncdsb.ca/event/pizza-day/
END:VEVENT
BEGIN:VEVENT
DTSTART;VALUE=DATE:20251022
DTEND;VALUE=DATE:20251023
DTSTAMP:20260419T191504
CREATED:20250930T190630Z
LAST-MODIFIED:20250930T190630Z
UID:777-1761091200-1761177599@ncec1.bhncdsb.ca
SUMMARY:Panzerotti Day
DESCRIPTION:
URL:https://ncec1.bhncdsb.ca/event/panzerotti-day-4/
END:VEVENT
BEGIN:VEVENT
DTSTART;VALUE=DATE:20251021
DTEND;VALUE=DATE:20251022
DTSTAMP:20260419T191504
CREATED:20250930T191612Z
LAST-MODIFIED:20250930T191612Z
UID:783-1761004800-1761091199@ncec1.bhncdsb.ca
SUMMARY:Nugget/Wedge Meal
DESCRIPTION:
URL:https://ncec1.bhncdsb.ca/event/nugget-wedge-meal-2/
END:VEVENT
BEGIN:VEVENT
DTSTART;VALUE=DATE:20251016
DTEND;VALUE=DATE:20251017
DTSTAMP:20260419T191504
CREATED:20250930T190324Z
LAST-MODIFIED:20250930T190324Z
UID:767-1760572800-1760659199@ncec1.bhncdsb.ca
SUMMARY:Pizza Day
DESCRIPTION:
URL:https://ncec1.bhncdsb.ca/event/pizza-day-4/
END:VEVENT
BEGIN:VEVENT
DTSTART;VALUE=DATE:20251015
DTEND;VALUE=DATE:20251016
DTSTAMP:20260419T191504
CREATED:20250930T190602Z
LAST-MODIFIED:20250930T190602Z
UID:775-1760486400-1760572799@ncec1.bhncdsb.ca
SUMMARY:Panzerotti Day
DESCRIPTION:
URL:https://ncec1.bhncdsb.ca/event/panzerotti-day-3/
END:VEVENT
BEGIN:VEVENT
DTSTART;VALUE=DATE:20251014
DTEND;VALUE=DATE:20251015
DTSTAMP:20260419T191504
CREATED:20250930T191056Z
LAST-MODIFIED:20250930T191056Z
UID:781-1760400000-1760486399@ncec1.bhncdsb.ca
SUMMARY:Nugget/Wedge Meal
DESCRIPTION:
URL:https://ncec1.bhncdsb.ca/event/nugget-wedge-meal/
END:VEVENT
BEGIN:VEVENT
DTSTART;VALUE=DATE:20251013
DTEND;VALUE=DATE:20251014
DTSTAMP:20260419T191504
CREATED:20250512T170904Z
LAST-MODIFIED:20250512T170904Z
UID:672-1760313600-1760399999@ncec1.bhncdsb.ca
SUMMARY:Thanksgiving Monday
DESCRIPTION:Statutory Holiday – No School
URL:https://ncec1.bhncdsb.ca/event/thanksgiving-monday/
END:VEVENT
BEGIN:VEVENT
DTSTART;VALUE=DATE:20251009
DTEND;VALUE=DATE:20251010
DTSTAMP:20260419T191504
CREATED:20250930T190222Z
LAST-MODIFIED:20250930T190222Z
UID:765-1759968000-1760054399@ncec1.bhncdsb.ca
SUMMARY:Pizza Day
DESCRIPTION:
URL:https://ncec1.bhncdsb.ca/event/pizza-day-3/
END:VEVENT
BEGIN:VEVENT
DTSTART;TZID=America/Toronto:20251008T090000
DTEND;TZID=America/Toronto:20251008T100000
DTSTAMP:20260419T191504
CREATED:20250512T170001Z
LAST-MODIFIED:20250512T170001Z
UID:660-1759914000-1759917600@ncec1.bhncdsb.ca
SUMMARY:Mass
DESCRIPTION:
URL:https://ncec1.bhncdsb.ca/event/mass-4/
END:VEVENT
BEGIN:VEVENT
DTSTART;VALUE=DATE:20251008
DTEND;VALUE=DATE:20251009
DTSTAMP:20260419T191504
CREATED:20250930T190540Z
LAST-MODIFIED:20250930T190540Z
UID:773-1759881600-1759967999@ncec1.bhncdsb.ca
SUMMARY:Panzerotti Day
DESCRIPTION:
URL:https://ncec1.bhncdsb.ca/event/panzerotti-day-2/
END:VEVENT
BEGIN:VEVENT
DTSTART;VALUE=DATE:20251007
DTEND;VALUE=DATE:20251008
DTSTAMP:20260419T191504
CREATED:20250512T170515Z
LAST-MODIFIED:20250512T170515Z
UID:670-1759795200-1759881599@ncec1.bhncdsb.ca
SUMMARY:PA Day
DESCRIPTION:
URL:https://ncec1.bhncdsb.ca/event/pa-day-7/
END:VEVENT
BEGIN:VEVENT
DTSTART;VALUE=DATE:20251002
DTEND;VALUE=DATE:20251003
DTSTAMP:20260419T191504
CREATED:20250930T190150Z
LAST-MODIFIED:20250930T190150Z
UID:763-1759363200-1759449599@ncec1.bhncdsb.ca
SUMMARY:Pizza Day
DESCRIPTION:
URL:https://ncec1.bhncdsb.ca/event/pizza-day-2/
END:VEVENT
BEGIN:VEVENT
DTSTART;VALUE=DATE:20251001
DTEND;VALUE=DATE:20251002
DTSTAMP:20260419T191504
CREATED:20250930T190519Z
LAST-MODIFIED:20250930T190519Z
UID:771-1759276800-1759363199@ncec1.bhncdsb.ca
SUMMARY:Panzerotti Day
DESCRIPTION:
URL:https://ncec1.bhncdsb.ca/event/panzerotti-day/
END:VEVENT
BEGIN:VEVENT
DTSTART;TZID=America/Toronto:20250917T090000
DTEND;TZID=America/Toronto:20250917T100000
DTSTAMP:20260419T191504
CREATED:20250512T165913Z
LAST-MODIFIED:20250512T165913Z
UID:658-1758099600-1758103200@ncec1.bhncdsb.ca
SUMMARY:Mass
DESCRIPTION:
URL:https://ncec1.bhncdsb.ca/event/mass-3/
END:VEVENT
BEGIN:VEVENT
DTSTART;VALUE=DATE:20250912
DTEND;VALUE=DATE:20250913
DTSTAMP:20260419T191504
CREATED:20250512T170405Z
LAST-MODIFIED:20250512T170405Z
UID:668-1757635200-1757721599@ncec1.bhncdsb.ca
SUMMARY:PA Day
DESCRIPTION:
URL:https://ncec1.bhncdsb.ca/event/pa-day-6/
END:VEVENT
BEGIN:VEVENT
DTSTART;VALUE=DATE:20250627
DTEND;VALUE=DATE:20250628
DTSTAMP:20260419T191504
CREATED:20241101T175612Z
LAST-MODIFIED:20241101T175612Z
UID:335-1750982400-1751068799@ncec1.bhncdsb.ca
SUMMARY:PA Day
DESCRIPTION:
URL:https://ncec1.bhncdsb.ca/event/pa-day-5/
END:VEVENT
BEGIN:VEVENT
DTSTART;VALUE=DATE:20250626
DTEND;VALUE=DATE:20250627
DTSTAMP:20260419T191504
CREATED:20241101T175545Z
LAST-MODIFIED:20241101T175711Z
UID:333-1750896000-1750982399@ncec1.bhncdsb.ca
SUMMARY:Last Day of School for Students
DESCRIPTION:
URL:https://ncec1.bhncdsb.ca/event/last-day-of-school/
END:VEVENT
BEGIN:VEVENT
DTSTART;TZID=America/Toronto:20250625T090000
DTEND;TZID=America/Toronto:20250625T100000
DTSTAMP:20260419T191504
CREATED:20250512T165739Z
LAST-MODIFIED:20250512T165739Z
UID:656-1750842000-1750845600@ncec1.bhncdsb.ca
SUMMARY:Mass
DESCRIPTION:
URL:https://ncec1.bhncdsb.ca/event/mass-2/
END:VEVENT
BEGIN:VEVENT
DTSTART;VALUE=DATE:20250613
DTEND;VALUE=DATE:20250614
DTSTAMP:20260419T191504
CREATED:20250423T183408Z
LAST-MODIFIED:20250423T183408Z
UID:636-1749772800-1749859199@ncec1.bhncdsb.ca
SUMMARY:School Bussing in Port Dover
DESCRIPTION:A Message from Transportation – Regarding Friday 13\, 2025 \nDear Parent(s)/Guardian(s)\, \nThis letter is to inform you that the Friday the 13th Port Dover motorcycle celebration will again mean Lakewood and St Cecilia buses in Port Dover will not be operating as those schools will be online learning only. \nPort Dover buses will not be performing PICK-UP or DROP-OFF services on Friday June 13\, 2025\, meaning no transfer buses will be operating either. Simcoe Composite\, Holy Trinity\, St Joseph’s\, Ecole Ste Marie and Waterford High School students if needing transportation that day will be able to ride from stop area #1 DeKoning Restaurant Hwy #6 near St John’s Road for P/U departure by bus # 1894  at 8:15 am and D/O at 3:40pm or  at stop area#2 St John’s Anglican Church the corner of St John’s Road and Hwy 24 for P/U departure by Bus # 1894 at 8:25 am and D/O at 3:30 pm. It is the parent’s responsibility to deliver and pick up student)s) to stop area on time. The bus will not wait.
URL:https://ncec1.bhncdsb.ca/event/school-bussing-in-port-dover/
END:VEVENT
BEGIN:VEVENT
DTSTART;VALUE=DATE:20250606
DTEND;VALUE=DATE:20250607
DTSTAMP:20260419T191504
CREATED:20241101T175510Z
LAST-MODIFIED:20241101T175510Z
UID:331-1749168000-1749254399@ncec1.bhncdsb.ca
SUMMARY:PA Day
DESCRIPTION:
URL:https://ncec1.bhncdsb.ca/event/pa-day-4/
END:VEVENT
BEGIN:VEVENT
DTSTART;VALUE=DATE:20250604
DTEND;VALUE=DATE:20250605
DTSTAMP:20260419T191504
CREATED:20250512T165609Z
LAST-MODIFIED:20250512T165609Z
UID:654-1748995200-1749081599@ncec1.bhncdsb.ca
SUMMARY:Have a Go
DESCRIPTION:Special Education Event
URL:https://ncec1.bhncdsb.ca/event/have-a-go/
END:VEVENT
BEGIN:VEVENT
DTSTART;VALUE=DATE:20250530
DTEND;VALUE=DATE:20250531
DTSTAMP:20260419T191504
CREATED:20250512T165446Z
LAST-MODIFIED:20250512T165446Z
UID:652-1748563200-1748649599@ncec1.bhncdsb.ca
SUMMARY:School Track & Field
DESCRIPTION:at Holy Trinity (Rain Date June 5\, 2025)
URL:https://ncec1.bhncdsb.ca/event/school-track-field/
END:VEVENT
BEGIN:VEVENT
DTSTART;TZID=America/Toronto:20250526T080000
DTEND;TZID=America/Toronto:20250526T170000
DTSTAMP:20260419T191504
CREATED:20250328T145822Z
LAST-MODIFIED:20250328T145822Z
UID:497-1748246400-1748278800@ncec1.bhncdsb.ca
SUMMARY:Gr 2/3 Backus Mill Trip - Outdoor Education
DESCRIPTION:
URL:https://ncec1.bhncdsb.ca/event/gr-2-3-backus-mill-trip-outdoor-education/
END:VEVENT
BEGIN:VEVENT
DTSTART;VALUE=DATE:20250526
DTEND;VALUE=DATE:20250527
DTSTAMP:20260419T191504
CREATED:20250512T165235Z
LAST-MODIFIED:20250512T165313Z
UID:650-1748217600-1748303999@ncec1.bhncdsb.ca
SUMMARY:Kindergarten Year End Trip
DESCRIPTION:
URL:https://ncec1.bhncdsb.ca/event/kindergarten-year-end-trip/
END:VEVENT
BEGIN:VEVENT
DTSTART;TZID=America/Toronto:20250522T111000
DTEND;TZID=America/Toronto:20250522T123000
DTSTAMP:20260419T191504
CREATED:20250422T181402Z
LAST-MODIFIED:20250422T181503Z
UID:629-1747912200-1747917000@ncec1.bhncdsb.ca
SUMMARY:Upcoming presentation – Soft Shoe Dancers K-2/3
DESCRIPTION:Upcoming presentation – Soft Shoe Dancers is a dance group from Emily C. General school on the Six Nations reserve. Their presentation includes a lesson about traditional dances and regalia. They will be performing some dances and have the students participate in dances as well. Grades K-2/3 will be taking part in this presentation. \nThis presentation supports our Indigenous curriculum as well as complimenting our music and dance curriculum expectations.
URL:https://ncec1.bhncdsb.ca/event/upcoming-presentation-soft-shoe-dancers-k-2-3/
END:VEVENT
BEGIN:VEVENT
DTSTART;TZID=America/Toronto:20250522T084500
DTEND;TZID=America/Toronto:20250522T124500
DTSTAMP:20260419T191504
CREATED:20250422T182926Z
LAST-MODIFIED:20250422T182926Z
UID:634-1747903500-1747917900@ncec1.bhncdsb.ca
SUMMARY:Upcoming Presentation - Onkwehonwe Games Gr 3/4 to 8
DESCRIPTION:Onkwehonwe Games – Dallas Squire\, a former professional lacrosse player from 6 Nations will be running a program that focuses on traditional games (e.g.\, – lacrosse\, peach pit\, double ball\, etc.). His programs include learning about and playing the games and/or using kits to put together small games. \nGrades 3/4 to 8 will take part in this presentation.\n8:45 am – 10:25 am and 11:05 am – 12:45 pm \nThis program supports our physical education curriculum as well as complimenting our learning skills (problem solving\, collaboration and initiative).
URL:https://ncec1.bhncdsb.ca/event/upcoming-presentation-onkwehonwe-games-gr-3-4-to-8/
END:VEVENT
BEGIN:VEVENT
DTSTART;VALUE=DATE:20250522
DTEND;VALUE=DATE:20250523
DTSTAMP:20260419T191504
CREATED:20250512T165051Z
LAST-MODIFIED:20250512T165051Z
UID:648-1747872000-1747958399@ncec1.bhncdsb.ca
SUMMARY:Gr 7/8 Epic Jobs Trip
DESCRIPTION:
URL:https://ncec1.bhncdsb.ca/event/gr-7-8-epic-jobs-trip/
END:VEVENT
BEGIN:VEVENT
DTSTART;VALUE=DATE:20250521
DTEND;VALUE=DATE:20250522
DTSTAMP:20260419T191504
CREATED:20250512T164857Z
LAST-MODIFIED:20250512T164943Z
UID:646-1747785600-1747871999@ncec1.bhncdsb.ca
SUMMARY:Gr 2 Backus Trip
DESCRIPTION:
URL:https://ncec1.bhncdsb.ca/event/gr-2-backus-trip/
END:VEVENT
BEGIN:VEVENT
DTSTART;TZID=America/Toronto:20250520T110500
DTEND;TZID=America/Toronto:20250520T123000
DTSTAMP:20260419T191504
CREATED:20250422T182017Z
LAST-MODIFIED:20250422T182017Z
UID:632-1747739100-1747744200@ncec1.bhncdsb.ca
SUMMARY:Upcoming Presentation - Norfolk Association for Community Living Gr 5/6
DESCRIPTION:Norfolk Association for Community Living (Mrs. Lampman\, Senior Administrative Assistant) \nGrade 5/6 – discussing how individuals with exceptionalities are supported in our community with a goal towards independent living.\nThis presentation supports our Catholic values and promotes inclusivity and understanding.
URL:https://ncec1.bhncdsb.ca/event/upcoming-presentation-norfolk-association-for-community-living-gr-5-6/
END:VEVENT
END:VCALENDAR