BEGIN:VCALENDAR
VERSION:2.0
PRODID:-//St. Cecilia School - Norfolk - ECPv6.15.7//NONSGML v1.0//EN
CALSCALE:GREGORIAN
METHOD:PUBLISH
X-WR-CALNAME:St. Cecilia School - Norfolk
X-ORIGINAL-URL:https://ncec1.bhncdsb.ca
X-WR-CALDESC:Events for St. Cecilia School - Norfolk
REFRESH-INTERVAL;VALUE=DURATION:PT1H
X-Robots-Tag:noindex
X-PUBLISHED-TTL:PT1H
BEGIN:VTIMEZONE
TZID:America/Toronto
BEGIN:DAYLIGHT
TZOFFSETFROM:-0500
TZOFFSETTO:-0400
TZNAME:EDT
DTSTART:20240310T070000
END:DAYLIGHT
BEGIN:STANDARD
TZOFFSETFROM:-0400
TZOFFSETTO:-0500
TZNAME:EST
DTSTART:20241103T060000
END:STANDARD
BEGIN:DAYLIGHT
TZOFFSETFROM:-0500
TZOFFSETTO:-0400
TZNAME:EDT
DTSTART:20250309T070000
END:DAYLIGHT
BEGIN:STANDARD
TZOFFSETFROM:-0400
TZOFFSETTO:-0500
TZNAME:EST
DTSTART:20251102T060000
END:STANDARD
BEGIN:DAYLIGHT
TZOFFSETFROM:-0500
TZOFFSETTO:-0400
TZNAME:EDT
DTSTART:20260308T070000
END:DAYLIGHT
BEGIN:STANDARD
TZOFFSETFROM:-0400
TZOFFSETTO:-0500
TZNAME:EST
DTSTART:20261101T060000
END:STANDARD
BEGIN:DAYLIGHT
TZOFFSETFROM:-0500
TZOFFSETTO:-0400
TZNAME:EDT
DTSTART:20270314T070000
END:DAYLIGHT
BEGIN:STANDARD
TZOFFSETFROM:-0400
TZOFFSETTO:-0500
TZNAME:EST
DTSTART:20271107T060000
END:STANDARD
END:VTIMEZONE
BEGIN:VEVENT
DTSTART;VALUE=DATE:20251225
DTEND;VALUE=DATE:20251226
DTSTAMP:20260419T220907
CREATED:20250512T171722Z
LAST-MODIFIED:20250512T171722Z
UID:682-1766620800-1766707199@ncec1.bhncdsb.ca
SUMMARY:Christmas Day
DESCRIPTION:School Resumes Monday\, January 5\, 2026
URL:https://ncec1.bhncdsb.ca/event/christmas-day/
END:VEVENT
BEGIN:VEVENT
DTSTART;VALUE=DATE:20251226
DTEND;VALUE=DATE:20251227
DTSTAMP:20260419T220907
CREATED:20250512T171804Z
LAST-MODIFIED:20250512T171804Z
UID:684-1766707200-1766793599@ncec1.bhncdsb.ca
SUMMARY:Boxing Day
DESCRIPTION:School Resumes Monday\, January 5\, 2026
URL:https://ncec1.bhncdsb.ca/event/boxing-day/
END:VEVENT
BEGIN:VEVENT
DTSTART;VALUE=DATE:20251229
DTEND;VALUE=DATE:20251230
DTSTAMP:20260419T220907
CREATED:20250512T171920Z
LAST-MODIFIED:20250512T171920Z
UID:686-1766966400-1767052799@ncec1.bhncdsb.ca
SUMMARY:Christmas Break
DESCRIPTION:School Resumes Monday\, January 5\, 2026
URL:https://ncec1.bhncdsb.ca/event/christmas-break-3/
END:VEVENT
BEGIN:VEVENT
DTSTART;VALUE=DATE:20251230
DTEND;VALUE=DATE:20251231
DTSTAMP:20260419T220907
CREATED:20250512T171955Z
LAST-MODIFIED:20250512T171955Z
UID:688-1767052800-1767139199@ncec1.bhncdsb.ca
SUMMARY:Christmas Break
DESCRIPTION:School Resumes Monday\, January 5\, 2026
URL:https://ncec1.bhncdsb.ca/event/christmas-break-4/
END:VEVENT
BEGIN:VEVENT
DTSTART;VALUE=DATE:20251231
DTEND;VALUE=DATE:20260101
DTSTAMP:20260419T220907
CREATED:20250512T172053Z
LAST-MODIFIED:20250512T172053Z
UID:690-1767139200-1767225599@ncec1.bhncdsb.ca
SUMMARY:New Year's Eve
DESCRIPTION:School Resumes Monday\, January 5\, 2026
URL:https://ncec1.bhncdsb.ca/event/new-years-eve/
END:VEVENT
BEGIN:VEVENT
DTSTART;VALUE=DATE:20260101
DTEND;VALUE=DATE:20260102
DTSTAMP:20260419T220907
CREATED:20250512T172145Z
LAST-MODIFIED:20250512T172145Z
UID:692-1767225600-1767311999@ncec1.bhncdsb.ca
SUMMARY:New Year's Day
DESCRIPTION:School Resumes Monday\, January 5\, 2026
URL:https://ncec1.bhncdsb.ca/event/new-years-day/
END:VEVENT
BEGIN:VEVENT
DTSTART;VALUE=DATE:20260102
DTEND;VALUE=DATE:20260103
DTSTAMP:20260419T220907
CREATED:20250512T172215Z
LAST-MODIFIED:20250512T172215Z
UID:694-1767312000-1767398399@ncec1.bhncdsb.ca
SUMMARY:Christmas Break
DESCRIPTION:School Resumes Monday\, January 5\, 2026
URL:https://ncec1.bhncdsb.ca/event/christmas-break-5/
END:VEVENT
BEGIN:VEVENT
DTSTART;VALUE=DATE:20260119
DTEND;VALUE=DATE:20260120
DTSTAMP:20260419T220907
CREATED:20250512T172435Z
LAST-MODIFIED:20250512T172435Z
UID:696-1768780800-1768867199@ncec1.bhncdsb.ca
SUMMARY:PA Day
DESCRIPTION:
URL:https://ncec1.bhncdsb.ca/event/pa-day-9/
END:VEVENT
BEGIN:VEVENT
DTSTART;VALUE=DATE:20260216
DTEND;VALUE=DATE:20260217
DTSTAMP:20260419T220907
CREATED:20250512T172510Z
LAST-MODIFIED:20250512T172510Z
UID:698-1771200000-1771286399@ncec1.bhncdsb.ca
SUMMARY:Family Day
DESCRIPTION:No School
URL:https://ncec1.bhncdsb.ca/event/family-day-2/
END:VEVENT
BEGIN:VEVENT
DTSTART;VALUE=DATE:20260316
DTEND;VALUE=DATE:20260317
DTSTAMP:20260419T220907
CREATED:20250512T172652Z
LAST-MODIFIED:20250512T172652Z
UID:700-1773619200-1773705599@ncec1.bhncdsb.ca
SUMMARY:March Break
DESCRIPTION:School Resumes Monday\, March 23\, 2026
URL:https://ncec1.bhncdsb.ca/event/march-break-2/
END:VEVENT
BEGIN:VEVENT
DTSTART;VALUE=DATE:20260317
DTEND;VALUE=DATE:20260318
DTSTAMP:20260419T220907
CREATED:20250512T172725Z
LAST-MODIFIED:20250512T172725Z
UID:702-1773705600-1773791999@ncec1.bhncdsb.ca
SUMMARY:March Break
DESCRIPTION:School Resumes Monday\, March 23\, 2026
URL:https://ncec1.bhncdsb.ca/event/march-break-3/
END:VEVENT
BEGIN:VEVENT
DTSTART;VALUE=DATE:20260318
DTEND;VALUE=DATE:20260319
DTSTAMP:20260419T220907
CREATED:20250512T172814Z
LAST-MODIFIED:20250512T172814Z
UID:704-1773792000-1773878399@ncec1.bhncdsb.ca
SUMMARY:March Break
DESCRIPTION:School Resumes Monday\, March 23\, 2026
URL:https://ncec1.bhncdsb.ca/event/march-break-4/
END:VEVENT
BEGIN:VEVENT
DTSTART;VALUE=DATE:20260319
DTEND;VALUE=DATE:20260320
DTSTAMP:20260419T220907
CREATED:20250512T172852Z
LAST-MODIFIED:20250512T172852Z
UID:706-1773878400-1773964799@ncec1.bhncdsb.ca
SUMMARY:March Break
DESCRIPTION:School Resumes Monday\, March 23\, 2026
URL:https://ncec1.bhncdsb.ca/event/march-break-5/
END:VEVENT
BEGIN:VEVENT
DTSTART;VALUE=DATE:20260320
DTEND;VALUE=DATE:20260321
DTSTAMP:20260419T220907
CREATED:20250512T172926Z
LAST-MODIFIED:20250512T172926Z
UID:708-1773964800-1774051199@ncec1.bhncdsb.ca
SUMMARY:March Break
DESCRIPTION:School Resumes Monday\, March 23\, 2026
URL:https://ncec1.bhncdsb.ca/event/march-break-6/
END:VEVENT
BEGIN:VEVENT
DTSTART;VALUE=DATE:20260403
DTEND;VALUE=DATE:20260404
DTSTAMP:20260419T220907
CREATED:20250512T173559Z
LAST-MODIFIED:20250512T173559Z
UID:710-1775174400-1775260799@ncec1.bhncdsb.ca
SUMMARY:Good Friday
DESCRIPTION:Statutory Holiday – No School
URL:https://ncec1.bhncdsb.ca/event/good-friday-2/
END:VEVENT
BEGIN:VEVENT
DTSTART;VALUE=DATE:20260406
DTEND;VALUE=DATE:20260407
DTSTAMP:20260419T220907
CREATED:20250512T173720Z
LAST-MODIFIED:20250512T173720Z
UID:712-1775433600-1775519999@ncec1.bhncdsb.ca
SUMMARY:Easter Monday
DESCRIPTION:Statutory Holiday – No School
URL:https://ncec1.bhncdsb.ca/event/easter-monday-2/
END:VEVENT
BEGIN:VEVENT
DTSTART;VALUE=DATE:20260417
DTEND;VALUE=DATE:20260418
DTSTAMP:20260419T220907
CREATED:20250512T173806Z
LAST-MODIFIED:20250512T173806Z
UID:714-1776384000-1776470399@ncec1.bhncdsb.ca
SUMMARY:PA Day
DESCRIPTION:No School
URL:https://ncec1.bhncdsb.ca/event/pa-day-10/
END:VEVENT
BEGIN:VEVENT
DTSTART;VALUE=DATE:20260518
DTEND;VALUE=DATE:20260519
DTSTAMP:20260419T220907
CREATED:20250512T174253Z
LAST-MODIFIED:20250512T174253Z
UID:716-1779062400-1779148799@ncec1.bhncdsb.ca
SUMMARY:Victoria Day
DESCRIPTION:Statutory Holiday – No School
URL:https://ncec1.bhncdsb.ca/event/victoria-day-2/
END:VEVENT
BEGIN:VEVENT
DTSTART;VALUE=DATE:20260605
DTEND;VALUE=DATE:20260606
DTSTAMP:20260419T220907
CREATED:20250512T174352Z
LAST-MODIFIED:20250512T174352Z
UID:718-1780617600-1780703999@ncec1.bhncdsb.ca
SUMMARY:PA Day
DESCRIPTION:No School
URL:https://ncec1.bhncdsb.ca/event/pa-day-11/
END:VEVENT
BEGIN:VEVENT
DTSTART;VALUE=DATE:20260626
DTEND;VALUE=DATE:20260627
DTSTAMP:20260419T220907
CREATED:20250512T174431Z
LAST-MODIFIED:20250512T174431Z
UID:720-1782432000-1782518399@ncec1.bhncdsb.ca
SUMMARY:PA Day
DESCRIPTION:No School
URL:https://ncec1.bhncdsb.ca/event/pa-day-12/
END:VEVENT
END:VCALENDAR