BEGIN:VCALENDAR
VERSION:2.0
PRODID:-//St. Cecilia School - Norfolk - ECPv6.15.7//NONSGML v1.0//EN
CALSCALE:GREGORIAN
METHOD:PUBLISH
X-WR-CALNAME:St. Cecilia School - Norfolk
X-ORIGINAL-URL:https://ncec1.bhncdsb.ca
X-WR-CALDESC:Events for St. Cecilia School - Norfolk
REFRESH-INTERVAL;VALUE=DURATION:PT1H
X-Robots-Tag:noindex
X-PUBLISHED-TTL:PT1H
BEGIN:VTIMEZONE
TZID:America/Toronto
BEGIN:DAYLIGHT
TZOFFSETFROM:-0500
TZOFFSETTO:-0400
TZNAME:EDT
DTSTART:20240310T070000
END:DAYLIGHT
BEGIN:STANDARD
TZOFFSETFROM:-0400
TZOFFSETTO:-0500
TZNAME:EST
DTSTART:20241103T060000
END:STANDARD
BEGIN:DAYLIGHT
TZOFFSETFROM:-0500
TZOFFSETTO:-0400
TZNAME:EDT
DTSTART:20250309T070000
END:DAYLIGHT
BEGIN:STANDARD
TZOFFSETFROM:-0400
TZOFFSETTO:-0500
TZNAME:EST
DTSTART:20251102T060000
END:STANDARD
BEGIN:DAYLIGHT
TZOFFSETFROM:-0500
TZOFFSETTO:-0400
TZNAME:EDT
DTSTART:20260308T070000
END:DAYLIGHT
BEGIN:STANDARD
TZOFFSETFROM:-0400
TZOFFSETTO:-0500
TZNAME:EST
DTSTART:20261101T060000
END:STANDARD
END:VTIMEZONE
BEGIN:VEVENT
DTSTART;VALUE=DATE:20251230
DTEND;VALUE=DATE:20251231
DTSTAMP:20260419T190311
CREATED:20250512T171955Z
LAST-MODIFIED:20250512T171955Z
UID:688-1767052800-1767139199@ncec1.bhncdsb.ca
SUMMARY:Christmas Break
DESCRIPTION:School Resumes Monday\, January 5\, 2026
URL:https://ncec1.bhncdsb.ca/event/christmas-break-4/
END:VEVENT
BEGIN:VEVENT
DTSTART;VALUE=DATE:20251229
DTEND;VALUE=DATE:20251230
DTSTAMP:20260419T190311
CREATED:20250512T171920Z
LAST-MODIFIED:20250512T171920Z
UID:686-1766966400-1767052799@ncec1.bhncdsb.ca
SUMMARY:Christmas Break
DESCRIPTION:School Resumes Monday\, January 5\, 2026
URL:https://ncec1.bhncdsb.ca/event/christmas-break-3/
END:VEVENT
BEGIN:VEVENT
DTSTART;VALUE=DATE:20251226
DTEND;VALUE=DATE:20251227
DTSTAMP:20260419T190311
CREATED:20250512T171804Z
LAST-MODIFIED:20250512T171804Z
UID:684-1766707200-1766793599@ncec1.bhncdsb.ca
SUMMARY:Boxing Day
DESCRIPTION:School Resumes Monday\, January 5\, 2026
URL:https://ncec1.bhncdsb.ca/event/boxing-day/
END:VEVENT
BEGIN:VEVENT
DTSTART;VALUE=DATE:20251225
DTEND;VALUE=DATE:20251226
DTSTAMP:20260419T190311
CREATED:20250512T171722Z
LAST-MODIFIED:20250512T171722Z
UID:682-1766620800-1766707199@ncec1.bhncdsb.ca
SUMMARY:Christmas Day
DESCRIPTION:School Resumes Monday\, January 5\, 2026
URL:https://ncec1.bhncdsb.ca/event/christmas-day/
END:VEVENT
BEGIN:VEVENT
DTSTART;VALUE=DATE:20251224
DTEND;VALUE=DATE:20251225
DTSTAMP:20260419T190311
CREATED:20250512T171648Z
LAST-MODIFIED:20250512T171648Z
UID:680-1766534400-1766620799@ncec1.bhncdsb.ca
SUMMARY:Christmas Eve
DESCRIPTION:School Resumes Monday\, January 5\, 2026
URL:https://ncec1.bhncdsb.ca/event/christmas-eve/
END:VEVENT
BEGIN:VEVENT
DTSTART;VALUE=DATE:20251223
DTEND;VALUE=DATE:20251224
DTSTAMP:20260419T190311
CREATED:20250512T171521Z
LAST-MODIFIED:20250512T171521Z
UID:678-1766448000-1766534399@ncec1.bhncdsb.ca
SUMMARY:Christmas Break
DESCRIPTION:School Resumes Monday\, January 5\, 2026
URL:https://ncec1.bhncdsb.ca/event/christmas-break-2/
END:VEVENT
BEGIN:VEVENT
DTSTART;VALUE=DATE:20251222
DTEND;VALUE=DATE:20251223
DTSTAMP:20260419T190311
CREATED:20250512T171420Z
LAST-MODIFIED:20250512T171420Z
UID:676-1766361600-1766447999@ncec1.bhncdsb.ca
SUMMARY:Christmas Break
DESCRIPTION:School Resumes Monday\, January 5\, 2026
URL:https://ncec1.bhncdsb.ca/event/christmas-break/
END:VEVENT
BEGIN:VEVENT
DTSTART;TZID=America/Toronto:20251217T090000
DTEND;TZID=America/Toronto:20251217T100000
DTSTAMP:20260419T190311
CREATED:20250512T170131Z
LAST-MODIFIED:20250512T170230Z
UID:664-1765962000-1765965600@ncec1.bhncdsb.ca
SUMMARY:Mass
DESCRIPTION:Gr 2\, 7\, 8 Confessions 9:45 am / Church
URL:https://ncec1.bhncdsb.ca/event/mass-6/
END:VEVENT
BEGIN:VEVENT
DTSTART;VALUE=DATE:20251128
DTEND;VALUE=DATE:20251129
DTSTAMP:20260419T190311
CREATED:20251024T143650Z
LAST-MODIFIED:20251024T143650Z
UID:801-1764288000-1764374399@ncec1.bhncdsb.ca
SUMMARY:D.A.R.E. Program - Gr 5/6
DESCRIPTION:The D.A.R.E. Program will be given to the 5/6 class by Officer Gamble every Friday starting October 30\, 2025 until January 23\, 2026.
URL:https://ncec1.bhncdsb.ca/event/d-a-r-e-program-gr-5-6-4/
END:VEVENT
BEGIN:VEVENT
DTSTART;VALUE=DATE:20251121
DTEND;VALUE=DATE:20251122
DTSTAMP:20260419T190311
CREATED:20251024T143541Z
LAST-MODIFIED:20251024T143541Z
UID:799-1763683200-1763769599@ncec1.bhncdsb.ca
SUMMARY:D.A.R.E. Program - Gr 5/6
DESCRIPTION:The D.A.R.E. Program will be given to the 5/6 class by Officer Gamble every Friday starting October 30\, 2025 until January 23\, 2026.
URL:https://ncec1.bhncdsb.ca/event/d-a-r-e-program-gr-5-6-3/
END:VEVENT
BEGIN:VEVENT
DTSTART;VALUE=DATE:20251114
DTEND;VALUE=DATE:20251115
DTSTAMP:20260419T190311
CREATED:20251024T143455Z
LAST-MODIFIED:20251024T143455Z
UID:797-1763078400-1763164799@ncec1.bhncdsb.ca
SUMMARY:D.A.R.E. Program - Gr 5/6
DESCRIPTION:The D.A.R.E. Program will be given to the 5/6 class by Officer Gamble every Friday starting October 30\, 2025 until January 23\, 2026.
URL:https://ncec1.bhncdsb.ca/event/d-a-r-e-program-gr-5-6-2/
END:VEVENT
BEGIN:VEVENT
DTSTART;VALUE=DATE:20251114
DTEND;VALUE=DATE:20251115
DTSTAMP:20260419T190311
CREATED:20250930T183517Z
LAST-MODIFIED:20250930T183517Z
UID:758-1763078400-1763164799@ncec1.bhncdsb.ca
SUMMARY:PA DAy
DESCRIPTION:
URL:https://ncec1.bhncdsb.ca/event/pa-day-13/
END:VEVENT
BEGIN:VEVENT
DTSTART;VALUE=DATE:20251114
DTEND;VALUE=DATE:20251115
DTSTAMP:20260419T190311
CREATED:20250512T171049Z
LAST-MODIFIED:20250512T171049Z
UID:674-1763078400-1763164799@ncec1.bhncdsb.ca
SUMMARY:PA Day
DESCRIPTION:Teacher / Parent Conferences
URL:https://ncec1.bhncdsb.ca/event/pa-day-8/
END:VEVENT
BEGIN:VEVENT
DTSTART;TZID=America/Toronto:20251112T090000
DTEND;TZID=America/Toronto:20251112T100000
DTSTAMP:20260419T190311
CREATED:20250512T170056Z
LAST-MODIFIED:20250512T170056Z
UID:662-1762938000-1762941600@ncec1.bhncdsb.ca
SUMMARY:Mass
DESCRIPTION:
URL:https://ncec1.bhncdsb.ca/event/mass-5/
END:VEVENT
BEGIN:VEVENT
DTSTART;VALUE=DATE:20251110
DTEND;VALUE=DATE:20251111
DTSTAMP:20260419T190311
CREATED:20251021T141048Z
LAST-MODIFIED:20251021T141048Z
UID:791-1762732800-1762819199@ncec1.bhncdsb.ca
SUMMARY:Remembrance Day Presentation by the Legion
DESCRIPTION:Grades 4 to 8 students will gather in the school gym for a presentation given by the Legion about Remembrance Day.
URL:https://ncec1.bhncdsb.ca/event/remembrance-day-presentation-by-the-legion/
END:VEVENT
BEGIN:VEVENT
DTSTART;VALUE=DATE:20251107
DTEND;VALUE=DATE:20251108
DTSTAMP:20260419T190311
CREATED:20251024T143337Z
LAST-MODIFIED:20251024T143337Z
UID:795-1762473600-1762559999@ncec1.bhncdsb.ca
SUMMARY:D.A.R.E. Program - 5/6
DESCRIPTION:The D.A.R.E. Program will be given to the 5/6 class by Officer Gamble every Friday starting October 30\, 2025 until January 23\, 2026.
URL:https://ncec1.bhncdsb.ca/event/d-a-r-e-program-5-6/
END:VEVENT
BEGIN:VEVENT
DTSTART;VALUE=DATE:20251031
DTEND;VALUE=DATE:20251101
DTSTAMP:20260419T190311
CREATED:20250930T191733Z
LAST-MODIFIED:20250930T191733Z
UID:787-1761868800-1761955199@ncec1.bhncdsb.ca
SUMMARY:Popcorn Day
DESCRIPTION:
URL:https://ncec1.bhncdsb.ca/event/popcorn-day/
END:VEVENT
BEGIN:VEVENT
DTSTART;VALUE=DATE:20251030
DTEND;VALUE=DATE:20251031
DTSTAMP:20260419T190311
CREATED:20251024T142933Z
LAST-MODIFIED:20251024T142933Z
UID:793-1761782400-1761868799@ncec1.bhncdsb.ca
SUMMARY:D.A.R.E. Program - Gr 5/6
DESCRIPTION:The D.A.R.E. Program will be given to the 5/6 class by Officer Gamble every Friday starting October 30\, 2025 until January 23\, 2026.
URL:https://ncec1.bhncdsb.ca/event/d-a-r-e-program-gr-5-6/
END:VEVENT
BEGIN:VEVENT
DTSTART;VALUE=DATE:20251030
DTEND;VALUE=DATE:20251031
DTSTAMP:20260419T190311
CREATED:20250930T190355Z
LAST-MODIFIED:20250930T190355Z
UID:769-1761782400-1761868799@ncec1.bhncdsb.ca
SUMMARY:Pizza Day
DESCRIPTION:
URL:https://ncec1.bhncdsb.ca/event/pizza-day-5/
END:VEVENT
BEGIN:VEVENT
DTSTART;VALUE=DATE:20251029
DTEND;VALUE=DATE:20251030
DTSTAMP:20260419T190311
CREATED:20250930T190655Z
LAST-MODIFIED:20250930T190655Z
UID:779-1761696000-1761782399@ncec1.bhncdsb.ca
SUMMARY:Panzerotti Day
DESCRIPTION:
URL:https://ncec1.bhncdsb.ca/event/panzerotti-day-5/
END:VEVENT
BEGIN:VEVENT
DTSTART;VALUE=DATE:20251028
DTEND;VALUE=DATE:20251029
DTSTAMP:20260419T190311
CREATED:20250930T191633Z
LAST-MODIFIED:20250930T191633Z
UID:785-1761609600-1761695999@ncec1.bhncdsb.ca
SUMMARY:Nugget/Wedge Meal
DESCRIPTION:
URL:https://ncec1.bhncdsb.ca/event/nugget-wedge-meal-3/
END:VEVENT
BEGIN:VEVENT
DTSTART;VALUE=DATE:20251023
DTEND;VALUE=DATE:20251024
DTSTAMP:20260419T190311
CREATED:20250930T185859Z
LAST-MODIFIED:20250930T185942Z
UID:761-1761177600-1761263999@ncec1.bhncdsb.ca
SUMMARY:Pizza Day
DESCRIPTION:
URL:https://ncec1.bhncdsb.ca/event/pizza-day/
END:VEVENT
BEGIN:VEVENT
DTSTART;VALUE=DATE:20251022
DTEND;VALUE=DATE:20251023
DTSTAMP:20260419T190311
CREATED:20250930T190630Z
LAST-MODIFIED:20250930T190630Z
UID:777-1761091200-1761177599@ncec1.bhncdsb.ca
SUMMARY:Panzerotti Day
DESCRIPTION:
URL:https://ncec1.bhncdsb.ca/event/panzerotti-day-4/
END:VEVENT
BEGIN:VEVENT
DTSTART;VALUE=DATE:20251021
DTEND;VALUE=DATE:20251022
DTSTAMP:20260419T190311
CREATED:20250930T191612Z
LAST-MODIFIED:20250930T191612Z
UID:783-1761004800-1761091199@ncec1.bhncdsb.ca
SUMMARY:Nugget/Wedge Meal
DESCRIPTION:
URL:https://ncec1.bhncdsb.ca/event/nugget-wedge-meal-2/
END:VEVENT
BEGIN:VEVENT
DTSTART;VALUE=DATE:20251016
DTEND;VALUE=DATE:20251017
DTSTAMP:20260419T190311
CREATED:20250930T190324Z
LAST-MODIFIED:20250930T190324Z
UID:767-1760572800-1760659199@ncec1.bhncdsb.ca
SUMMARY:Pizza Day
DESCRIPTION:
URL:https://ncec1.bhncdsb.ca/event/pizza-day-4/
END:VEVENT
BEGIN:VEVENT
DTSTART;VALUE=DATE:20251015
DTEND;VALUE=DATE:20251016
DTSTAMP:20260419T190311
CREATED:20250930T190602Z
LAST-MODIFIED:20250930T190602Z
UID:775-1760486400-1760572799@ncec1.bhncdsb.ca
SUMMARY:Panzerotti Day
DESCRIPTION:
URL:https://ncec1.bhncdsb.ca/event/panzerotti-day-3/
END:VEVENT
BEGIN:VEVENT
DTSTART;VALUE=DATE:20251014
DTEND;VALUE=DATE:20251015
DTSTAMP:20260419T190311
CREATED:20250930T191056Z
LAST-MODIFIED:20250930T191056Z
UID:781-1760400000-1760486399@ncec1.bhncdsb.ca
SUMMARY:Nugget/Wedge Meal
DESCRIPTION:
URL:https://ncec1.bhncdsb.ca/event/nugget-wedge-meal/
END:VEVENT
BEGIN:VEVENT
DTSTART;VALUE=DATE:20251013
DTEND;VALUE=DATE:20251014
DTSTAMP:20260419T190311
CREATED:20250512T170904Z
LAST-MODIFIED:20250512T170904Z
UID:672-1760313600-1760399999@ncec1.bhncdsb.ca
SUMMARY:Thanksgiving Monday
DESCRIPTION:Statutory Holiday – No School
URL:https://ncec1.bhncdsb.ca/event/thanksgiving-monday/
END:VEVENT
BEGIN:VEVENT
DTSTART;VALUE=DATE:20251009
DTEND;VALUE=DATE:20251010
DTSTAMP:20260419T190311
CREATED:20250930T190222Z
LAST-MODIFIED:20250930T190222Z
UID:765-1759968000-1760054399@ncec1.bhncdsb.ca
SUMMARY:Pizza Day
DESCRIPTION:
URL:https://ncec1.bhncdsb.ca/event/pizza-day-3/
END:VEVENT
BEGIN:VEVENT
DTSTART;TZID=America/Toronto:20251008T090000
DTEND;TZID=America/Toronto:20251008T100000
DTSTAMP:20260419T190311
CREATED:20250512T170001Z
LAST-MODIFIED:20250512T170001Z
UID:660-1759914000-1759917600@ncec1.bhncdsb.ca
SUMMARY:Mass
DESCRIPTION:
URL:https://ncec1.bhncdsb.ca/event/mass-4/
END:VEVENT
END:VCALENDAR